BEGIN:VCALENDAR
VERSION:2.0
PRODID:-//Stanley Town Hall - ECPv4.9.13//NONSGML v1.0//EN
CALSCALE:GREGORIAN
METHOD:PUBLISH
X-WR-CALNAME:Stanley Town Hall
X-ORIGINAL-URL:http://www.stanleytownhall.com.au
X-WR-CALDESC:Events for Stanley Town Hall
BEGIN:VTIMEZONE
TZID:Australia/Hobart
BEGIN:STANDARD
TZOFFSETFROM:+1100
TZOFFSETTO:+1000
TZNAME:AEST
DTSTART:20180331T160000
END:STANDARD
BEGIN:DAYLIGHT
TZOFFSETFROM:+1000
TZOFFSETTO:+1100
TZNAME:AEDT
DTSTART:20181006T160000
END:DAYLIGHT
END:VTIMEZONE
BEGIN:VEVENT
DTSTART;TZID=Australia/Hobart:20180928T193000
DTEND;TZID=Australia/Hobart:20180928T220000
DTSTAMP:20200301T230223
CREATED:20170619T013839Z
LAST-MODIFIED:20180314T024120Z
UID:388-1538163000-1538172000@www.stanleytownhall.com.au
SUMMARY:Crystal Theatre Film Society - The Boys are Back
DESCRIPTION:
URL:http://www.stanleytownhall.com.au/event/crystal-theatre-film-society-film-tba-9/
LOCATION:Stanley Town Hall\, 10 Church Street\, Stanley\, Tasmania\, 7331\, Australia
CATEGORIES:Film
END:VEVENT
END:VCALENDAR