BEGIN:VCALENDAR
VERSION:2.0
PRODID:-//Stanley Town Hall - ECPv6.15.3//NONSGML v1.0//EN
CALSCALE:GREGORIAN
METHOD:PUBLISH
X-WR-CALNAME:Stanley Town Hall
X-ORIGINAL-URL:https://www.stanleytownhall.com.au
X-WR-CALDESC:Events for Stanley Town Hall
REFRESH-INTERVAL;VALUE=DURATION:PT1H
X-Robots-Tag:noindex
X-PUBLISHED-TTL:PT1H
BEGIN:VTIMEZONE
TZID:Australia/Hobart
BEGIN:STANDARD
TZOFFSETFROM:+1100
TZOFFSETTO:+1000
TZNAME:AEST
DTSTART:20260404T160000
END:STANDARD
BEGIN:DAYLIGHT
TZOFFSETFROM:+1000
TZOFFSETTO:+1100
TZNAME:AEDT
DTSTART:20261003T160000
END:DAYLIGHT
END:VTIMEZONE
BEGIN:VEVENT
DTSTART;TZID=Australia/Hobart:20260528T133000
DTEND;TZID=Australia/Hobart:20260528T190000
DTSTAMP:20260423T232635
CREATED:20260423T071030Z
LAST-MODIFIED:20260423T071030Z
UID:972-1779975000-1779994800@www.stanleytownhall.com.au
SUMMARY:TasDance - Double Slink
DESCRIPTION:Led by ADAM WHEELER & SARAH GROTH\nFeaturing LILY ALCOCK\, IZZY LOCKETT & STANLEY PRIMARY SCHOOL\nTHURSDAY 28th MAY 2026\, TIME: 1:30-2:30pm & 6:00-7:00pm \nA double-bill offering of dance. \nAct One: A new work made by and for the students of Stanley Primary School\, exploring our need for connection through embodying our love of Slinkys. \nAct Two: A professional duet that uses Slinkys as a tactile partner to explore analogue play and the human need for connection in a world shaped by screens. \n$10 tickets and children under 16 FREE!! \nFOR MORE INFORMATION CLICK HERE\nSupported by Arts Tasmania\, Creative Australia\, RANT Arts\, the Regional Arts Fund\, Stanley Primary School\, and the Circular Head Council.
URL:https://www.stanleytownhall.com.au/event/tasdance-double-slink/
LOCATION:Stanley Town Hall\, 10 Church Street\, Stanley\, Tasmania\, 7331\, Australia
ATTACH;FMTTYPE=image/png:https://www.stanleytownhall.com.au/wp-content/uploads/2026/04/tasdance-double-slink-promo.png
ORGANIZER;CN="TasDance":MAILTO:info@tasdance.com.au
END:VEVENT
END:VCALENDAR